BEGIN:VCALENDAR
VERSION:2.0
PRODID:-//Art of Counseling - ECPv6.15.20//NONSGML v1.0//EN
CALSCALE:GREGORIAN
METHOD:PUBLISH
X-WR-CALNAME:Art of Counseling
X-ORIGINAL-URL:https://artofcounselingstpaul.com
X-WR-CALDESC:Events for Art of Counseling
REFRESH-INTERVAL;VALUE=DURATION:PT1H
X-Robots-Tag:noindex
X-PUBLISHED-TTL:PT1H
BEGIN:VTIMEZONE
TZID:America/Chicago
BEGIN:DAYLIGHT
TZOFFSETFROM:-0600
TZOFFSETTO:-0500
TZNAME:CDT
DTSTART:20250309T080000
END:DAYLIGHT
BEGIN:STANDARD
TZOFFSETFROM:-0500
TZOFFSETTO:-0600
TZNAME:CST
DTSTART:20251102T070000
END:STANDARD
BEGIN:DAYLIGHT
TZOFFSETFROM:-0600
TZOFFSETTO:-0500
TZNAME:CDT
DTSTART:20260308T080000
END:DAYLIGHT
BEGIN:STANDARD
TZOFFSETFROM:-0500
TZOFFSETTO:-0600
TZNAME:CST
DTSTART:20261101T070000
END:STANDARD
BEGIN:DAYLIGHT
TZOFFSETFROM:-0600
TZOFFSETTO:-0500
TZNAME:CDT
DTSTART:20270314T080000
END:DAYLIGHT
BEGIN:STANDARD
TZOFFSETFROM:-0500
TZOFFSETTO:-0600
TZNAME:CST
DTSTART:20271107T070000
END:STANDARD
END:VTIMEZONE
BEGIN:VEVENT
DTSTART;VALUE=DATE:20260417
DTEND;VALUE=DATE:20260420
DTSTAMP:20260419T092701
CREATED:20260319T150917Z
LAST-MODIFIED:20260326T160622Z
UID:10000031-1776384000-1776643199@artofcounselingstpaul.com
SUMMARY:Spring 2026 – Double Holotropic Breathwork™ Workshop
DESCRIPTION:**Early Registration Discount ended on March 20th** \nJoin Midwest Breathwork and Art of Counseling for a Double Holotropic Breathwork™ workshop right here in St. Paul\, MN\, from the afternoon on Friday\, April 17th\, through the afternoon on Sunday\, April 19th. \nThis non-residential workshop contains 4 breathwork sessions\, allowing each participant the opportunity to experience ‘breathing’ and ‘sitting’ twice. \nThis transformative weekend offers a unique opportunity to explore the depths of your consciousness through supported breathwork sessions. Whether you’re new to Holotropic Breathwork™ or have previous experience\, this workshop will provide you with the opportunity and space for deep self-exploration and healing. Don’t miss this chance to connect with yourself and others on a profound level in the heart of St. Paul. \nRegister for the event by visiting Midwest Breathwork’s website here: https://www.midwestbreathwork.com/events \n  \nThis workshop fulfills virtual module requirements\, for Holotropic Breathwork™ certification. \n  \nBelow is the tentative schedule for the weekend: \nFriday\, April 17th \n\nOpening Community Circle and Intro Talk\nBreathwork Session # 1\nDinner Provided – Mandala Creation\n\nSaturday\, April 18th \n\nBreathwork Session # 2\nLunch Provided – Mandala Creation\nBreathwork Session # 3\nDinner Provided – Mandala Creation\nCommunity Circle & Sharing\n\nSunday\, April 19th \n\nBreathwork Session # 4\nLunch Provided – Mandala Creation\nIntegration Practice & Closing Community Share
URL:https://artofcounselingstpaul.com/event/spring-2026-double-holotropic-breathwork-workshop/
LOCATION:Art of Counseling\, 275 4th Street East\, St. Paul\, 55101\, United States
CATEGORIES:Community Events,Holotropic Breathwork
ATTACH;FMTTYPE=image/png:https://artofcounselingstpaul.com/wp-content/uploads/2026/03/Double-Holotropic_WebsiteSocial_Spring-26.png
END:VEVENT
END:VCALENDAR