BEGIN:VCALENDAR
VERSION:2.0
PRODID:-//Art of Counseling - ECPv6.15.20//NONSGML v1.0//EN
CALSCALE:GREGORIAN
METHOD:PUBLISH
X-WR-CALNAME:Art of Counseling
X-ORIGINAL-URL:https://artofcounselingstpaul.com
X-WR-CALDESC:Events for Art of Counseling
REFRESH-INTERVAL;VALUE=DURATION:PT1H
X-Robots-Tag:noindex
X-PUBLISHED-TTL:PT1H
BEGIN:VTIMEZONE
TZID:America/Chicago
BEGIN:DAYLIGHT
TZOFFSETFROM:-0600
TZOFFSETTO:-0500
TZNAME:CDT
DTSTART:20250309T080000
END:DAYLIGHT
BEGIN:STANDARD
TZOFFSETFROM:-0500
TZOFFSETTO:-0600
TZNAME:CST
DTSTART:20251102T070000
END:STANDARD
BEGIN:DAYLIGHT
TZOFFSETFROM:-0600
TZOFFSETTO:-0500
TZNAME:CDT
DTSTART:20260308T080000
END:DAYLIGHT
BEGIN:STANDARD
TZOFFSETFROM:-0500
TZOFFSETTO:-0600
TZNAME:CST
DTSTART:20261101T070000
END:STANDARD
BEGIN:DAYLIGHT
TZOFFSETFROM:-0600
TZOFFSETTO:-0500
TZNAME:CDT
DTSTART:20270314T080000
END:DAYLIGHT
BEGIN:STANDARD
TZOFFSETFROM:-0500
TZOFFSETTO:-0600
TZNAME:CST
DTSTART:20271107T070000
END:STANDARD
END:VTIMEZONE
BEGIN:VEVENT
DTSTART;TZID=America/Chicago:20260320T083000
DTEND;TZID=America/Chicago:20260320T160000
DTSTAMP:20260422T125014
CREATED:20250929T194028Z
LAST-MODIFIED:20260313T170425Z
UID:10000023-1773995400-1774022400@artofcounselingstpaul.com
SUMMARY:Process Painting Seminar – March 2026
DESCRIPTION:(Previously scheduled for 2/20/26\, has since been rescheduled for 3/20/26) \nWhen applying the concepts of El Duende Process Painting and Anchored Relational Method of Relational Autonomy and Relational Cohesion to self-as-therapist clinical practice\, the vehicle for learning becomes the therapist’s relationship to a single canvas over time. The sequential layering of art materials fosters ongoing self-reflexivity through aesthetic attunement\, Relational Resonance\, and clinical intuition. This process provides a direct experience with internal reflective processing\, aesthetically focused curiosity\, and opportunities to explore internal and external relationships\, often activating deep layers of professional and personal identity material and helping us fine-tune how we attune and attend to ourselves and clients. \nThe structure of process painting has three main activities:  \n\nSpontaneous painting\nComplex reflective processing\nAesthetically focused attention to imagery appearing in the painting that parallels the clinical experience\n\nThis process offers numerous benefits including enhanced self-reflexivity\, improved clinical intuition\, and a deeper understanding of internal and external relationships. Engagement from Active Imagination\, practicing and applying “neurology\, development\, dignity\, resilience\, and vulnerability inherent in all human beings.. supporting life-giving actions in line with values.” (Miller and Solon 2024) \nSeminar Schedule: \n\n8:30AM – 9AM: Orientate self to space & sign in\n9AM: Seminar begins\n12PM – 12:45PM: Lunch break (food not provided)\n4PM: Seminar ends
URL:https://artofcounselingstpaul.com/event/process-painting-seminar-march-2026/
LOCATION:Art of Counseling\, 275 4th Street East\, St. Paul\, 55101\, United States
CATEGORIES:Process Painting Seminar
ATTACH;FMTTYPE=image/png:https://artofcounselingstpaul.com/wp-content/uploads/2025/09/Process-Painting-March-2026-Website-Image.png
END:VEVENT
END:VCALENDAR